BEGIN:VCALENDAR
VERSION:2.0
PRODID:-//hacksw/handcal//NONSGML v1.0//EN
BEGIN:VEVENT
SUMMARY:Pau / Brive
UID:629a9f4f-cccf-4f5c-a3e9-e4b5cb249855
DTSTART:20260425T120000Z
DTEND:20260425T220000Z
LOCATION:Localisation   
CATEGORIES:Sportif
STATUS:
URL;VALUE=URI:https://www.association-section-paloise-rugby.com/evenements/2026/04/25/pau-brive-2409836
END:VEVENT
END:VCALENDAR
